BEGIN:VCALENDAR
VERSION:2.0
PRODID:-//wp-events-plugin.com//7.2.3.1//EN
TZID:Europe/Zurich
X-WR-TIMEZONE:Europe/Zurich
BEGIN:VEVENT
UID:1@ovbramberg.ch
DTSTART:20240602T063000Z
DTEND:20240602T130000Z
DTSTAMP:20240509T073934Z
URL:https://ovbramberg.ch/events/zmorge/
SUMMARY:Zmorge
DESCRIPTION:
LOCATION:Schützenhaus Bramberg\, Brambergstrasse 7a\, Neuenegg\, Schweden
X-APPLE-STRUCTURED-LOCATION;VALUE=URI;X-ADDRESS=Brambergstrasse 7a\, Neuene
 gg\, Schweden;X-APPLE-RADIUS=100;X-TITLE=Schützenhaus Bramberg:geo:0,0
END:VEVENT
END:VCALENDAR