BEGIN:VCALENDAR
VERSION:2.0
PRODID:-//wp-events-plugin.com//7.2.3.1//EN
TZID:Europe/Zurich
X-WR-TIMEZONE:Europe/Zurich
BEGIN:VEVENT
UID:13@ovbramberg.ch
DTSTART;TZID=Europe/Zurich:20260614T083000
DTEND;TZID=Europe/Zurich:20260614T113000
DTSTAMP:20251023T050120Z
URL:https://ovbramberg.ch/events/zmorge-2/
SUMMARY:Zmorge
DESCRIPTION:
LOCATION:Schützenhaus Bramberg\, Brambergstrasse 7a\, Neuenegg\, Schweden
X-APPLE-STRUCTURED-LOCATION;VALUE=URI;X-ADDRESS=Brambergstrasse 7a\, Neuene
 gg\, Schweden;X-APPLE-RADIUS=100;X-TITLE=Schützenhaus Bramberg:geo:0,0
END:VEVENT
BEGIN:VTIMEZONE
TZID:Europe/Zurich
X-LIC-LOCATION:Europe/Zurich
BEGIN:DAYLIGHT
DTSTART:20260329T030000
TZOFFSETFROM:+0100
TZOFFSETTO:+0200
TZNAME:CEST
END:DAYLIGHT
END:VTIMEZONE
END:VCALENDAR