BEGIN:VCALENDAR
VERSION:2.0
PRODID:-//wp-events-plugin.com//7.2.3.1//EN
TZID:Europe/Zurich
X-WR-TIMEZONE:Europe/Zurich
BEGIN:VEVENT
UID:2@ovbramberg.ch
DTSTART:20240816T160000Z
DTEND:20240816T210000Z
DTSTAMP:20240509T073858Z
URL:https://ovbramberg.ch/events/sommerplausch/
SUMMARY:Sommerplausch
DESCRIPTION:
LOCATION:Denkmal Bramberg\, Süristrasse 54\, Neuenegg\, Schweden
X-APPLE-STRUCTURED-LOCATION;VALUE=URI;X-ADDRESS=Süristrasse 54\, Neuenegg\
 , Schweden;X-APPLE-RADIUS=100;X-TITLE=Denkmal Bramberg:geo:0,0
END:VEVENT
END:VCALENDAR