BEGIN:VCALENDAR
VERSION:2.0
PRODID:-//wp-events-plugin.com//7.2.3.1//EN
TZID:Europe/Zurich
X-WR-TIMEZONE:Europe/Zurich
BEGIN:VEVENT
UID:8@ovbramberg.ch
DTSTART;TZID=Europe/Zurich:20250815T180000
DTEND;TZID=Europe/Zurich:20250815T230000
DTSTAMP:20241029T113545Z
URL:https://ovbramberg.ch/events/sommerplausch-2025/
SUMMARY:Sommerplausch
DESCRIPTION:
LOCATION:Denkmal Bramberg\, Süristrasse 54\, Neuenegg\, Schweden
X-APPLE-STRUCTURED-LOCATION;VALUE=URI;X-ADDRESS=Süristrasse 54\, Neuenegg\
 , Schweden;X-APPLE-RADIUS=100;X-TITLE=Denkmal Bramberg:geo:0,0
END:VEVENT
BEGIN:VTIMEZONE
TZID:Europe/Zurich
X-LIC-LOCATION:Europe/Zurich
BEGIN:DAYLIGHT
DTSTART:20250330T030000
TZOFFSETFROM:+0100
TZOFFSETTO:+0200
TZNAME:CEST
END:DAYLIGHT
END:VTIMEZONE
END:VCALENDAR