BEGIN:VCALENDAR
VERSION:2.0
PRODID:-//wp-events-plugin.com//7.2.3.1//EN
TZID:Europe/Zurich
X-WR-TIMEZONE:Europe/Zurich
BEGIN:VEVENT
UID:4@ovbramberg.ch
DTSTART:20241115T173000Z
DTEND:20241115T210000Z
DTSTAMP:20240509T073752Z
URL:https://ovbramberg.ch/events/hauptversammlung/
SUMMARY:Hauptversammlung
DESCRIPTION:
LOCATION:Restaurant Denkmal\, Süristrasse 22\, Neuenegg\, Schweiz
X-APPLE-STRUCTURED-LOCATION;VALUE=URI;X-ADDRESS=Süristrasse 22\, Neuenegg\
 , Schweiz;X-APPLE-RADIUS=100;X-TITLE=Restaurant Denkmal:geo:0,0
END:VEVENT
END:VCALENDAR