BEGIN:VCALENDAR
VERSION:2.0
PRODID:-//wp-events-plugin.com//7.2.3.1//EN
TZID:Europe/Zurich
X-WR-TIMEZONE:Europe/Zurich
BEGIN:VEVENT
UID:3@ovbramberg.ch
DTSTART:20241026T160000Z
DTEND:20241026T210000Z
DTSTAMP:20240509T073912Z
URL:https://ovbramberg.ch/events/fondue-plausch/
SUMMARY:Fondue-Plausch
DESCRIPTION:
LOCATION:Schulhaus Bramberg\, Brambergstrasse 41\, Neuenegg\, Schweiz
X-APPLE-STRUCTURED-LOCATION;VALUE=URI;X-ADDRESS=Brambergstrasse 41\, Neuene
 gg\, Schweiz;X-APPLE-RADIUS=100;X-TITLE=Schulhaus Bramberg:geo:0,0
END:VEVENT
END:VCALENDAR