BEGIN:VCALENDAR
VERSION:2.0
PRODID:-//wp-events-plugin.com//7.2.3.1//EN
TZID:Europe/Zurich
X-WR-TIMEZONE:Europe/Zurich
BEGIN:VEVENT
UID:9@ovbramberg.ch
DTSTART;TZID=Europe/Zurich:20251025T180000
DTEND;TZID=Europe/Zurich:20251025T230000
DTSTAMP:20241029T113640Z
URL:https://ovbramberg.ch/events/fondue-plausch-2/
SUMMARY:Fondue-Plausch
DESCRIPTION:
LOCATION:Schulhaus Bramberg\, Brambergstrasse 41\, Neuenegg\, Schweiz
X-APPLE-STRUCTURED-LOCATION;VALUE=URI;X-ADDRESS=Brambergstrasse 41\, Neuene
 gg\, Schweiz;X-APPLE-RADIUS=100;X-TITLE=Schulhaus Bramberg:geo:0,0
END:VEVENT
BEGIN:VTIMEZONE
TZID:Europe/Zurich
X-LIC-LOCATION:Europe/Zurich
BEGIN:DAYLIGHT
DTSTART:20250330T030000
TZOFFSETFROM:+0100
TZOFFSETTO:+0200
TZNAME:CEST
END:DAYLIGHT
END:VTIMEZONE
END:VCALENDAR